BEGIN:VCALENDAR
VERSION:2.0
PRODID:Events Booking
BEGIN:VEVENT
UID:69ecc3ae092d8
SUMMARY:Supervisory Management 360: Transforming New Supervisors into Effec
 tive Leaders 
DESCRIPTION:Stepping into a managerial role is a significant milestone in o
 ne's career\, bringing new responsibilities and challenges. Supervisors pl
 ay a crucial role in shaping team performance\, fostering a positive work 
 environment\, empowering team members\, and driving the overall success of
  the organization. This program is tailored to equip participants with the
  essential skills\, knowledge\, and tools to thrive in their new role and 
 make a lasting impact.
 Attendees will explore the essential elements of 
 management and leadership\, and gain the confidence and skills to lead the
 ir teams effectively\, manage challenges\, and set a strong foundation for
  future growth.
DTSTART:20250128T123000Z
DTSTAMP:20241018T184235Z
ORGANIZER;CN=ESC Training:MAILTO:communications@ecatt.org
END:VEVENT
END:VCALENDAR