BEGIN:VCALENDAR
VERSION:2.0
PRODID:Events Booking
BEGIN:VEVENT
UID:69ed8a53ea3a3
SUMMARY:Mastering the Science and Art of Critical Thinking and Decision- Ma
 king Skills for Business Professionals
DESCRIPTION:Critical thinking and decision-making are the cornerstones of s
 uccess in the workplace. In this regard\, developing your critical thinkin
 g and decision-making abilities are essential in today's&nbsp\;VUCA&nbsp\;
 (Volatile\, Uncertain\, Complex\, and Ambiguous) environment\;&nbsp\;Accor
 ding to renowned business magnate&nbsp\;Richard Branson\, \"Critical think
 ing is the key to creative problem solving in business.\" Participants in 
 this session will explore how to enhance these abilities and by extension\
 , drive team excellence and&nbsp\;organisational success.
 Unlock your fu
 ll potential and gain a competitive edge!
DTSTART:20240925T130000Z
DTEND:20240926T160000Z
DTSTAMP:20240716T184605Z
ORGANIZER;CN=ESC Training:MAILTO:communications@ecatt.org
END:VEVENT
END:VCALENDAR