BEGIN:VCALENDAR
VERSION:2.0
PRODID:Events Booking
BEGIN:VEVENT
UID:69e72bcde0aa8
SUMMARY:90-Minute Judgments: Acting
DESCRIPTION:This programme is designed to equip business owners\, superviso
 rs\, managers\, IR and HR professionals with the essential knowledge and t
 he framework necessary to successfully manage acting roles within their or
 ganisations. By taking part\, you will acquire the knowledge and resources
  needed to improve leadership\, optimise processes\, and reduce IR issues 
 and costs.
DTSTART:20250328T140000Z
DTEND:20250328T153000Z
DTSTAMP:20250224T202229Z
ORGANIZER;CN=ESC Training:MAILTO:communications@ecatt.org
END:VEVENT
END:VCALENDAR